BEGIN:VCALENDAR
VERSION:2.0
PRODID:-//ChamberMaster//Event Calendar 2.0//EN
METHOD:PUBLISH
X-PUBLISHED-TTL:P3D
REFRESH-INTERVAL:P3D
CALSCALE:GREGORIAN
BEGIN:VEVENT
DTSTART:20240303T220000Z
DTEND:20240304T000000Z
X-MICROSOFT-CDO-ALLDAYEVENT:FALSE
SUMMARY:The Pahrump Gunfighters Western Skits & Show
DESCRIPTION:"Keeping the Old West Alive"\n\n\n\nJoin The Pahrump Gunfighters on March 3rd at 2:00pm for a western skits and show.\n\n\n\nFREE ADMISSION!
X-ALT-DESC;FMTTYPE=text/html:<br />\n<span style="font-size:22px"><span style="font-family:verdana"><strong>&quot\;Keeping the Old West Alive&quot\;<br />\n<br />\nJoin The Pahrump Gunfighters on March 3rd at 2:00pm for a western skits and show.<br />\n<br />\nFREE ADMISSION!</strong></span></span>
LOCATION:100 W. Stagecoach Rd. (next to Stagestop Casino)
UID:e.3492.2605
SEQUENCE:3
DTSTAMP:20260420T022028Z
URL:https://business.pahrumpchamber.com/events/details/the-pahrump-gunfighters-western-skits-show-2605
END:VEVENT

END:VCALENDAR
