BEGIN:VCALENDAR
VERSION:2.0
PRODID:-//ChamberMaster//Event Calendar 2.0//EN
METHOD:PUBLISH
X-PUBLISHED-TTL:P3D
REFRESH-INTERVAL:P3D
CALSCALE:GREGORIAN
BEGIN:VEVENT
DTSTART;VALUE=DATE:20241211
DTEND;VALUE=DATE:20241216
TRANSP:TRANSPARENT
X-MICROSOFT-CDO-ALLDAYEVENT:TRUE
SUMMARY:Dry Creek Saloon presents LIVE MUSIC SCHEDULE for December 11-15th
DESCRIPTION:Come enjoy live music at Dry Creek Saloon!\n\n	\n	12/11: Chasing Sunrise 1-3PM\, Hot Coco Lin 3-6PM\n	\n	\n	12/12: Ray Ligon 4-7PM\, Karaoke with Dread 7-11PM\n	\n	\n	12/13: Dean West Smokin Gun Band 1-3PM\, Desert Shadows Band 3-6PM\, Still Drunk At Sunrise 6-9PM\, Nashville Star Wild Bill Young 9-10PM\, DJ 10PM-Close\n	\n	\n	12/14: Rick Scanlon 4-7PM\, DJ Soundz 8PM-Close\n	\n	\n	12/15: Open Mic & Performance by Lil Mikey Roohan 3-6PM
X-ALT-DESC;FMTTYPE=text/html:<br />\n<span style="color:#800000"><span style="font-size:20px"><span style="font-family:tahoma"><strong>Come enjoy live music at Dry Creek Saloon!</strong></span></span></span>\n<ul>\n	<li>\n	<h2><span style="color:#800000"><span style="font-size:20px"><span style="font-family:tahoma"><strong>12/11: Chasing Sunrise 1-3PM\, Hot Coco Lin 3-6PM</strong></span></span></span></h2>\n	</li>\n	<li>\n	<h2><span style="color:#800000"><span style="font-size:20px"><span style="font-family:tahoma"><strong>12/12: Ray Ligon 4-7PM\, Karaoke with Dread 7-11PM</strong></span></span></span></h2>\n	</li>\n	<li>\n	<h2><span style="color:#800000"><span style="font-size:20px"><span style="font-family:tahoma"><strong>12/13: Dean West Smokin Gun Band 1-3PM\, Desert Shadows Band 3-6PM\, Still Drunk At Sunrise 6-9PM\, Nashville Star Wild Bill Young 9-10PM\, DJ 10PM-Close</strong></span></span></span></h2>\n	</li>\n	<li>\n	<h2><span style="color:#800000"><span style="font-size:20px"><span style="font-family:tahoma"><strong>12/14: Rick Scanlon 4-7PM\, DJ Soundz 8PM-Close</strong></span></span></span></h2>\n	</li>\n	<li>\n	<h2><span style="color:#800000"><span style="font-size:20px"><span style="font-family:tahoma"><strong>12/15: Open Mic &amp\; Performance by Lil Mikey Roohan 3-6PM</strong></span></span></span></h2>\n	</li>\n</ul>\n
LOCATION:Dry Creek Saloon 1330 E. Fifth St.\, Pahrump
UID:e.3492.4540
SEQUENCE:3
DTSTAMP:20260424T210612Z
URL:https://business.pahrumpchamber.com/events/details/dry-creek-saloon-presents-live-music-schedule-for-december-11-15th-4540
END:VEVENT

END:VCALENDAR
