BEGIN:VCALENDAR
VERSION:2.0
PRODID:-//ChamberMaster//Event Calendar 2.0//EN
METHOD:PUBLISH
X-PUBLISHED-TTL:P3D
REFRESH-INTERVAL:P3D
CALSCALE:GREGORIAN
BEGIN:VEVENT
DTSTART:20260520T190000Z
DTEND:20260520T200000Z
X-MICROSOFT-CDO-ALLDAYEVENT:FALSE
SUMMARY:Chamber Membership Luncheon 5/20/26
DESCRIPTION:The Pahrump Valley Chamber of Commerce will host Nevada Lieutenant Governor Stavros Anthony as the guest speaker at our Membership Luncheon on May 20th from 12:00-1:00 p.m. at the Pahrump Nugget\, 681 S. Hwy 160. \n\n \n\nAttendees will receive updates on the Lieutenant Governor's office priorities and future plans\, along with valuable insight into state initiatives affecting Nevada businesses and the local community. The event also provides an opportunity to network with fellow professionals and Chamber members. \n\n\n\nEARLY BIRD PRICING: Register online before 12:00PM on 5/6/26\n\nPlease note that the early bird pricing discount will be reflected on the checkout screen.\n\n\n	Chamber Members: $40/per person\n	Non-Members: $55/per person\n\nREGULAR PRICING:\n\n\n	Chamber Members: $45/per person\n	Non-Members: $60/per person
X-ALT-DESC;FMTTYPE=text/html:<div>\n<p style="margin: 0px\; padding: 0px\; color: rgb(31\, 31\, 31)\; font-family: Tahoma\, Geneva\, sans-serif\; font-size: 14px\; white-space-collapse: preserve\;"><span style="font-size:20px\;"><strong><span style="font-family:tahoma\;"><span style="color: rgb(0\, 0\, 0)\;">The Pahrump Valley Chamber of Commerce will host Nevada Lieutenant Governor Stavros Anthony as the guest speaker at our Membership Luncheon on May 20th from 12:00-1:00 p.m. at the Pahrump Nugget\, 681 S. Hwy 160. </span></span></strong></span></p>\n\n<p style="margin: 0px\; padding: 0px\; color: rgb(31\, 31\, 31)\; font-family: Tahoma\, Geneva\, sans-serif\; font-size: 14px\; white-space-collapse: preserve\;">&nbsp\;</p>\n\n<p style="margin: 0px\; padding: 0px\; color: rgb(31\, 31\, 31)\; font-family: Tahoma\, Geneva\, sans-serif\; font-size: 14px\; white-space-collapse: preserve\;"><span style="font-size:20px\;"><strong><span style="font-family:tahoma\;"><span style="color: rgb(0\, 0\, 0)\;">Attendees will receive updates on the Lieutenant Governor&rsquo\;s office priorities and future plans\, along with valuable insight into state initiatives affecting Nevada businesses and the local community. The event also provides an opportunity to network with fellow professionals and Chamber members. </span></span></strong></span></p>\n\n<p style="margin: 0px\; padding: 0px\; color: rgb(31\, 31\, 31)\; font-family: Tahoma\, Geneva\, sans-serif\; font-size: 14px\; white-space-collapse: preserve\;"><br />\n<span style="font-family: tahoma\;"><span style="color: rgb(0\, 0\, 0)\;"><strong>EARLY BIRD PRICING:&nbsp\;</strong>Register online before 12:00PM on 5/6/26<br />\nPlease note that the early bird pricing discount will be reflected on the checkout screen.</span></span></p>\n\n<ul background-color:="" font-size:="" sans="" source="">\n	<li><span style="color: rgb(0\, 0\, 0)\;"><span style="font-size: 14px\;"><span style="font-family: tahoma\;">Chamber Members: $40/per person</span></span></span></li>\n	<li><span style="color: rgb(0\, 0\, 0)\;"><span style="font-size: 14px\;"><span style="font-family: tahoma\;">Non-Members: $55/per person</span></span></span></li>\n</ul>\n<span style="color: rgb(0\, 0\, 0)\;"><span style="font-size: 14px\;"><span style="font-family: tahoma\;"><strong>REGULAR PRICING:</strong></span></span></span>\n\n<ul background-color:="" font-size:="" sans="" source="">\n	<li><span style="color: rgb(0\, 0\, 0)\;"><span style="font-size: 14px\;"><span style="font-family: tahoma\;">Chamber Members: $45/per person</span></span></span></li>\n	<li><span style="color: rgb(0\, 0\, 0)\;"><span style="font-size: 14px\;"><span style="font-family: tahoma\;">Non-Members: $60/per person</span></span></span></li>\n</ul>\n</div>\n
LOCATION:Pahrump Nugget 681 S. Hwy 160 Pahrump\, NV 89048
UID:e.3492.4976
SEQUENCE:3
DTSTAMP:20260424T213254Z
URL:https://business.pahrumpchamber.com/events/details/chamber-membership-luncheon-5-20-26-4976
END:VEVENT

END:VCALENDAR
