BEGIN:VCALENDAR
VERSION:2.0
PRODID:-//ChamberMaster//Event Calendar 2.0//EN
METHOD:PUBLISH
X-PUBLISHED-TTL:P3D
REFRESH-INTERVAL:P3D
CALSCALE:GREGORIAN
BEGIN:VEVENT
DTSTART:20240824T170000Z
DTEND:20240824T190000Z
X-MICROSOFT-CDO-ALLDAYEVENT:FALSE
SUMMARY:Black Women & Civic Engagement
DESCRIPTION:Join us online or at the A.D. Guy Knowledge Center for a panel discussion about Black Women & Civic Engagement. Topics will include health\, education\, voting education\, racism\, civics\, & more. Featured panelists include: ASM Claire Thomas\, Kara Jenkins\, Laura Perkins\, Rae Canady\, and Linda Young.
X-ALT-DESC;FMTTYPE=text/html:<br />\n<strong><span style="font-size:22px"><span style="font-family:tahoma">Join us online or at the A.D. Guy Knowledge Center for a panel discussion about Black Women &amp\; Civic Engagement. Topics will include health\, education\, voting education\, racism\, civics\, &amp\; more. Featured panelists include: ASM Claire Thomas\, Kara Jenkins\, Laura Perkins\, Rae Canady\, and Linda Young.</span></span></strong>
LOCATION:Online: https://us02web.zoom.us//j/9303613220?OMN=88117282363 In-person: A.D. Guy Knowledge Center\, 817 N. Str.\, Las Vegas\, NV 89106
UID:e.3492.4504
SEQUENCE:3
DTSTAMP:20260420T083701Z
URL:https://business.pahrumpchamber.com/events/details/black-women-civic-engagement-4504
END:VEVENT

END:VCALENDAR
