BEGIN:VCALENDAR
VERSION:2.0
PRODID:-//ChamberMaster//Event Calendar 2.0//EN
METHOD:PUBLISH
X-PUBLISHED-TTL:P3D
REFRESH-INTERVAL:P3D
CALSCALE:GREGORIAN
BEGIN:VEVENT
DTSTART;VALUE=DATE:20250811
DTEND;VALUE=DATE:20251023
TRANSP:TRANSPARENT
X-MICROSOFT-CDO-ALLDAYEVENT:TRUE
SUMMARY:Become A Sponsor: PDOP Pumpkin Days 2025
DESCRIPTION:It is time again for PDOP Pumpkin Days 2025!  Click here to view our 2025 sponsorship form.  We are excited for this to be another amazing year.  Dates of Pumpkin Days 2025 will be Thursday October 23rd\, Friday October 24th\, Saturday October 25th\, and Sunday October 26th.\n\n \n\nWe are hopeful you will consider being a sponsor for this great event.  Being a sponsor of PDOP Pumpkin Days benefits special needs children in our community while advertising your business to thousands of patrons at the event. \n\n \n\nWe have an online sponsor registration page set up this year.\n\nhttps://www.pahrumpdisabilityoutreachprogram.com/sponsors\n\n \n\nIf you do not want to do it via internet\, please let us know and we will send someone to collect a check or you can mail it to PDOP -- P.O. BOX 2418 Pahrump Nevada 89041.\n\n \n\nPlease let us know so we can be on the look out for it. \n\n\n\nThanks so much in advance\,\n\nPDOP Board
X-ALT-DESC;FMTTYPE=text/html:<span style="font-size:18px\;"><span style="font-family:comic sans ms\;">It is time again for PDOP Pumpkin Days 2025!&nbsp\;&nbsp\;<strong><a href="https://chambermaster.blob.core.windows.net/userfiles/UserFiles/chambers/3492/File/pdoppumpkindaysflyer2025.pdf"><span style="color:#0000FF\;">Click here to view our 2025&nbsp\;sponsorship form</span></a></strong>.&nbsp\;&nbsp\;We are excited for this to be another amazing year.&nbsp\;&nbsp\;<strong>Dates of Pumpkin Days 2025 will be Thursday October 23rd\, Friday October 24th\, Saturday October 25th\, and Sunday October 26th.</strong><br />\n&nbsp\;<br />\nWe are hopeful you will consider being a sponsor for this great event.&nbsp\; Being a sponsor of PDOP Pumpkin Days benefits special needs children in our community while advertising your business to thousands of patrons at the event.&nbsp\;<br />\n&nbsp\;<br />\nWe have an online sponsor registration page set up this year.<br />\n<strong><a data-saferedirecturl="https://www.google.com/url?q=https://www.pahrumpdisabilityoutreachprogram.com/sponsors&amp\;source=gmail&amp\;ust=1755018604035000&amp\;usg=AOvVaw27zgmQi4oLR7ODOqkUWdxf" href="https://www.pahrumpdisabilityoutreachprogram.com/sponsors" target="_blank"><span style="color:#0000FF\;">https://www.<wbr />pahrumpdisabilityoutreachprogr<wbr />am.com/sponsors</span></a></strong><br />\n&nbsp\;<br />\nIf you do not want to do it via internet\, please let us know and we will send someone to collect a check or you can mail it to PDOP -- P.O. BOX 2418 Pahrump Nevada 89041.<br />\n&nbsp\;<br />\nPlease let us know so we can be on the look out for it.&nbsp\;<br />\n<br />\nThanks so much in advance\,<br />\nPDOP Board&nbsp\;</span></span>
LOCATION:Ian Deutsch Park 1600 Honeysuckle Street\, Pahrump
UID:e.3492.4912
SEQUENCE:3
DTSTAMP:20260420T123821Z
URL:https://business.pahrumpchamber.com/events/details/become-a-sponsor-pdop-pumpkin-days-2025-4912
END:VEVENT

END:VCALENDAR
